BEGIN:VCALENDAR
VERSION:2.0
PRODID:-//Landesnetzwerk Bürgerengagement Berlin e.V. - ECPv6.15.20//NONSGML v1.0//EN
CALSCALE:GREGORIAN
METHOD:PUBLISH
X-WR-CALNAME:Landesnetzwerk Bürgerengagement Berlin e.V.
X-ORIGINAL-URL:https://www.lnbe.berlin
X-WR-CALDESC:Veranstaltungen für Landesnetzwerk Bürgerengagement Berlin e.V.
REFRESH-INTERVAL;VALUE=DURATION:PT1H
X-Robots-Tag:noindex
X-PUBLISHED-TTL:PT1H
BEGIN:VTIMEZONE
TZID:Europe/Paris
BEGIN:DAYLIGHT
TZOFFSETFROM:+0100
TZOFFSETTO:+0200
TZNAME:CEST
DTSTART:20240331T010000
END:DAYLIGHT
BEGIN:STANDARD
TZOFFSETFROM:+0200
TZOFFSETTO:+0100
TZNAME:CET
DTSTART:20241027T010000
END:STANDARD
BEGIN:DAYLIGHT
TZOFFSETFROM:+0100
TZOFFSETTO:+0200
TZNAME:CEST
DTSTART:20250330T010000
END:DAYLIGHT
BEGIN:STANDARD
TZOFFSETFROM:+0200
TZOFFSETTO:+0100
TZNAME:CET
DTSTART:20251026T010000
END:STANDARD
BEGIN:DAYLIGHT
TZOFFSETFROM:+0100
TZOFFSETTO:+0200
TZNAME:CEST
DTSTART:20260329T010000
END:DAYLIGHT
BEGIN:STANDARD
TZOFFSETFROM:+0200
TZOFFSETTO:+0100
TZNAME:CET
DTSTART:20261025T010000
END:STANDARD
END:VTIMEZONE
BEGIN:VEVENT
DTSTART;TZID=Europe/Paris:20251014T180000
DTEND;TZID=Europe/Paris:20251014T200000
DTSTAMP:20260421T104203
CREATED:20250722T110453Z
LAST-MODIFIED:20250722T110453Z
UID:10000238-1760464800-1760472000@www.lnbe.berlin
SUMMARY:Demokratie? Nur mit uns! Jugendverbände stärken. Zivilgesellschaft sichern.
DESCRIPTION:Jugendverbände sind wichtige Orte für junge Menschen. Sie versetzen junge Menschen in die Lage, ihre Stimmen zu erheben – unabhängig, laut, engagiert und auch unbequem. Sie sind Orte, an denen Demokratie erlebt und Zukunft gestaltet wird. Und sie sind zentraler Teil der Zivilgesellschaft.

Wir erleben aber gerade, wie diese Strukturen unter Druck geraten: durch Kürzungen, Anfeindungen oder Delegitimierungen. Damit sind nicht nur unsere Strukturen bedroht, sondern auch das, wofür wir stehen: Teilhabe, Engagement, Selbstorganisation, Mitbestimmung.

Mit Vertreter:innen aus Politik, Verwaltung, Fachpraxis und Jugendverbänden wird an diesem Politischen Abend diskutiert, welchen zentralen Beitrag Jugendverbände für junge Menschen, für unsere Gesellschaft und für eine lebendige Demokratie leisten – und was es braucht, um die Rahmenbedingungen für junges Engagement und eine starke Zivilgesellschaft zu sichern.
URL:https://www.lnbe.berlin/veranstaltung/demokratie-nur-mit-uns-jugendverbaende-staerken-zivilgesellschaft-sichern/
LOCATION:Refugio Berlin\, Lenaustr. 3-4\, Berlin\, 12047
ATTACH;FMTTYPE=image/png:https://www.lnbe.berlin/wp-content/uploads/2024/03/Landesjugendring-scaled.jpg
END:VEVENT
END:VCALENDAR