BEGIN:VCALENDAR
VERSION:2.0
PRODID:-//Landesnetzwerk Bürgerengagement Berlin e.V. - ECPv6.15.20//NONSGML v1.0//EN
CALSCALE:GREGORIAN
METHOD:PUBLISH
X-WR-CALNAME:Landesnetzwerk Bürgerengagement Berlin e.V.
X-ORIGINAL-URL:https://www.lnbe.berlin
X-WR-CALDESC:Veranstaltungen für Landesnetzwerk Bürgerengagement Berlin e.V.
REFRESH-INTERVAL;VALUE=DURATION:PT1H
X-Robots-Tag:noindex
X-PUBLISHED-TTL:PT1H
BEGIN:VTIMEZONE
TZID:Europe/Paris
BEGIN:DAYLIGHT
TZOFFSETFROM:+0100
TZOFFSETTO:+0200
TZNAME:CEST
DTSTART:20230326T010000
END:DAYLIGHT
BEGIN:STANDARD
TZOFFSETFROM:+0200
TZOFFSETTO:+0100
TZNAME:CET
DTSTART:20231029T010000
END:STANDARD
BEGIN:DAYLIGHT
TZOFFSETFROM:+0100
TZOFFSETTO:+0200
TZNAME:CEST
DTSTART:20240331T010000
END:DAYLIGHT
BEGIN:STANDARD
TZOFFSETFROM:+0200
TZOFFSETTO:+0100
TZNAME:CET
DTSTART:20241027T010000
END:STANDARD
BEGIN:DAYLIGHT
TZOFFSETFROM:+0100
TZOFFSETTO:+0200
TZNAME:CEST
DTSTART:20250330T010000
END:DAYLIGHT
BEGIN:STANDARD
TZOFFSETFROM:+0200
TZOFFSETTO:+0100
TZNAME:CET
DTSTART:20251026T010000
END:STANDARD
END:VTIMEZONE
BEGIN:VEVENT
DTSTART;TZID=Europe/Paris:20241203T170000
DTEND;TZID=Europe/Paris:20241203T200000
DTSTAMP:20260421T103234
CREATED:20241125T085632Z
LAST-MODIFIED:20241125T085632Z
UID:10000114-1733245200-1733256000@www.lnbe.berlin
SUMMARY:Werkstatt-Gespräch – Berlin sicher\, sozial und klimaneutral
DESCRIPTION:Im Rahmen dieses Werkstatt-Gesprächs werden Herausforderungen und Erfolgsfaktoren des Programms GemeinsamKiez diskutiert. Das Aktionsprogramm unterstützt Hausgemeinschaften und Kiezgruppen dabei, ihre Nachbarschaften aktiv, solidarisch und krisensicher zu gestalten.

Gemeinsam mit Expert:innen und dem Team von Plan B 2030 e.V. werden folgende Fragen diskutiert wie:

 	Wie gelingt es, Nachbarschaften zu aktivieren und krisensicher zu machen?
 	Wie kann Gestaltungskraft und Solidarität in Nachbarschaften weiter gestärkt werden?
 	Wie gelingt es, unterschiedliche Kieze gut anzusprechen? Was ist für wen wichtig?


URL:https://www.lnbe.berlin/veranstaltung/werkstatt-gespraech-berlin-sicher-sozial-und-klimaneutral/
LOCATION:Project Together\, Karl-Liebknecht-Straße 34\, Berlin\, 10178
ATTACH;FMTTYPE=image/jpeg:https://www.lnbe.berlin/wp-content/uploads/2024/11/c_Pixabay_Kuller-Keks.jpg
END:VEVENT
END:VCALENDAR