BEGIN:VCALENDAR
VERSION:2.0
PRODID:-//Landesnetzwerk Bürgerengagement Berlin e.V. - ECPv6.15.20//NONSGML v1.0//EN
CALSCALE:GREGORIAN
METHOD:PUBLISH
X-WR-CALNAME:Landesnetzwerk Bürgerengagement Berlin e.V.
X-ORIGINAL-URL:https://www.lnbe.berlin
X-WR-CALDESC:Veranstaltungen für Landesnetzwerk Bürgerengagement Berlin e.V.
REFRESH-INTERVAL;VALUE=DURATION:PT1H
X-Robots-Tag:noindex
X-PUBLISHED-TTL:PT1H
BEGIN:VTIMEZONE
TZID:Europe/Paris
BEGIN:DAYLIGHT
TZOFFSETFROM:+0100
TZOFFSETTO:+0200
TZNAME:CEST
DTSTART:20250330T010000
END:DAYLIGHT
BEGIN:STANDARD
TZOFFSETFROM:+0200
TZOFFSETTO:+0100
TZNAME:CET
DTSTART:20251026T010000
END:STANDARD
BEGIN:DAYLIGHT
TZOFFSETFROM:+0100
TZOFFSETTO:+0200
TZNAME:CEST
DTSTART:20260329T010000
END:DAYLIGHT
BEGIN:STANDARD
TZOFFSETFROM:+0200
TZOFFSETTO:+0100
TZNAME:CET
DTSTART:20261025T010000
END:STANDARD
BEGIN:DAYLIGHT
TZOFFSETFROM:+0100
TZOFFSETTO:+0200
TZNAME:CEST
DTSTART:20270328T010000
END:DAYLIGHT
BEGIN:STANDARD
TZOFFSETFROM:+0200
TZOFFSETTO:+0100
TZNAME:CET
DTSTART:20271031T010000
END:STANDARD
END:VTIMEZONE
BEGIN:VEVENT
DTSTART;VALUE=DATE:20261102
DTEND;VALUE=DATE:20261104
DTSTAMP:20260421T135430
CREATED:20260323T144825Z
LAST-MODIFIED:20260323T144834Z
UID:10000394-1793577600-1793750399@www.lnbe.berlin
SUMMARY:4. Berliner Engagementkonferenz
DESCRIPTION:Die 4. Berliner Engagementkonferenz findet am 2. und 3. November 2026 im bUm Berlin (Paul-Lincke-Ufer 21, 10999 Berlin) statt.

Merke dir den Termin gern schon vor – weitere Informationen folgen.
URL:https://www.lnbe.berlin/veranstaltung/4-berliner-engagementkonferenz/
LOCATION:bUm Berlin\, Paul-Lincke-Ufer 21\, Berlin\, 10999
CATEGORIES:LNBE-Veranstaltung
ATTACH;FMTTYPE=image/png:https://www.lnbe.berlin/wp-content/uploads/2026/03/Kopie-von-Website-Bild-scaled.png
END:VEVENT
BEGIN:VEVENT
DTSTART;TZID=Europe/Paris:20261110T143000
DTEND;TZID=Europe/Paris:20261110T183000
DTSTAMP:20260421T135430
CREATED:20251125T130530Z
LAST-MODIFIED:20251125T130530Z
UID:10000329-1794321000-1794335400@www.lnbe.berlin
SUMMARY:Die Sprache der Emotionen
DESCRIPTION:In dieser Fortbildung des Unionhilfswerks bekommst du Handwerkszeug, um auch in sprachlosen Situationen Kontakt zu Menschen herzustellen. Du lernst, wie Beziehungen aufgebaut werden können, Emotionen in der Mimik zutreffend gelesen werden (Fehlerquote liegt oft bei bis zu 40 %) und häufig verwechselte Emotionen erkannt werden.

Im zweiten Schritt geht es um den Umgang mit starken Emotionen und die Anerkennung von Gefühlen. Dabei spielt die Körpersprache eine große Rolle – von Stimmung über Berührungen bis hin zu Körperhaltung und Blick.

Die Inhalte basieren auf der von Dr. Astrid Steinmetz entwickelten Methode Kommunikation ohne Worte (KoW®).
URL:https://www.lnbe.berlin/veranstaltung/die-sprache-der-emotionen/
LOCATION:Unionhilfswerk Dienstleistungs.Campus\, Schwiebusser Straße 18\, Berlin\, 10965
ATTACH;FMTTYPE=image/png:https://www.lnbe.berlin/wp-content/uploads/2024/05/Website_Veranstaltungsbilder-3.png
END:VEVENT
BEGIN:VEVENT
DTSTART;TZID=Europe/Paris:20261112T150000
DTEND;TZID=Europe/Paris:20261112T163000
DTSTAMP:20260421T135430
CREATED:20251111T115242Z
LAST-MODIFIED:20251111T115242Z
UID:10000303-1794495600-1794501000@www.lnbe.berlin
SUMMARY:Diversität im Engagement: Reden wir darüber – digitaler Austausch
DESCRIPTION:Die Akademie für Ehrenamtlichkeit lädt einmal im Quartal zum digitalen Austausch „Diversität im Engagement: Reden wir darüber“ ein – ein kostenfreies, 90-minütiges Online-Format.

Der Austausch bietet kurze Impulse, praxisnahe Methoden und moderierte Gespräche – mit wechselnden Schwerpunkten:

 	Diversität als Verantwortung von Engagement | 29. Januar 2026, 15:00–16:30 Uhr
 	Diversität in der Gewinnung | 11. Mai 2026, 15:00–16:30 Uhr
 	Diversität in der Engagementstrategie | 7. Juli 2026, 15:00–16:30 Uhr
 	Diversität in Projekten | 12. November 2026, 15:00–16:30 Uhr

Der Austausch ist offen für alle Interessierten.
URL:https://www.lnbe.berlin/veranstaltung/diversitaet-im-engagement-reden-wir-darueber-digitaler-austausch-4/
LOCATION:digital
CATEGORIES:Digital
ATTACH;FMTTYPE=image/png:https://www.lnbe.berlin/wp-content/uploads/2024/05/Website_Veranstaltungsbilder-2.png
END:VEVENT
END:VCALENDAR